BEGIN:VCALENDAR
VERSION:2.0
PRODID:-//US Patriot Title - ECPv6.15.20//NONSGML v1.0//EN
CALSCALE:GREGORIAN
METHOD:PUBLISH
X-ORIGINAL-URL:https://uspatriottitle.com
X-WR-CALDESC:Events for US Patriot Title
REFRESH-INTERVAL;VALUE=DURATION:PT1H
X-Robots-Tag:noindex
X-PUBLISHED-TTL:PT1H
BEGIN:VTIMEZONE
TZID:America/New_York
BEGIN:DAYLIGHT
TZOFFSETFROM:-0500
TZOFFSETTO:-0400
TZNAME:EDT
DTSTART:20250309T070000
END:DAYLIGHT
BEGIN:STANDARD
TZOFFSETFROM:-0400
TZOFFSETTO:-0500
TZNAME:EST
DTSTART:20251102T060000
END:STANDARD
BEGIN:DAYLIGHT
TZOFFSETFROM:-0500
TZOFFSETTO:-0400
TZNAME:EDT
DTSTART:20260308T070000
END:DAYLIGHT
BEGIN:STANDARD
TZOFFSETFROM:-0400
TZOFFSETTO:-0500
TZNAME:EST
DTSTART:20261101T060000
END:STANDARD
BEGIN:DAYLIGHT
TZOFFSETFROM:-0500
TZOFFSETTO:-0400
TZNAME:EDT
DTSTART:20270314T070000
END:DAYLIGHT
BEGIN:STANDARD
TZOFFSETFROM:-0400
TZOFFSETTO:-0500
TZNAME:EST
DTSTART:20271107T060000
END:STANDARD
END:VTIMEZONE
BEGIN:VEVENT
DTSTART;TZID=America/New_York:20260219T100000
DTEND;TZID=America/New_York:20260219T120000
DTSTAMP:20260419T143354
CREATED:20251229T180838Z
LAST-MODIFIED:20251229T184740Z
UID:10000598-1771495200-1771502400@uspatriottitle.com
SUMMARY:Guiding Your Seller Through a Real Estate Transaction
DESCRIPTION:RSVP BELOW prior to February 16 – If you need to cancel your RSVP\, please email jst@uspatriottitle.com so we can offer the spot to someone else. Thanks! \n  \nThis two-hour FREC-approved continuing education\n(CE) course provides real estate agents with\ninformation and insight to assist them in having\ntransaction-related discussions with their sellers\nthroughout the home selling and closing process.\nThe presentation offers guidance on the following\ntopics:\n• The sale process of a real estate transaction\n• Terms and conditions of the sale contract\n• The closing\n• What happens after closing
URL:https://uspatriottitle.com/event/guiding-your-seller-through-a-real-estate-transaction-4/
LOCATION:Blue Bamboo\, 10110 San Jose Blvd.\, Jacksonville\, FL\, 32257\, United States
ATTACH;FMTTYPE=image/jpeg:https://uspatriottitle.com/wp-content/uploads/2025/12/02.19.26-US-Patriot-Title-Guiding-Your-Seller.jpg
END:VEVENT
END:VCALENDAR