BEGIN:VCALENDAR
VERSION:2.0
PRODID:-//US Patriot Title - ECPv6.15.20//NONSGML v1.0//EN
CALSCALE:GREGORIAN
METHOD:PUBLISH
X-ORIGINAL-URL:https://uspatriottitle.com
X-WR-CALDESC:Events for US Patriot Title
REFRESH-INTERVAL;VALUE=DURATION:PT1H
X-Robots-Tag:noindex
X-PUBLISHED-TTL:PT1H
BEGIN:VTIMEZONE
TZID:Asia/Dubai
BEGIN:STANDARD
TZOFFSETFROM:+0400
TZOFFSETTO:+0400
TZNAME:+04
DTSTART:20220101T000000
END:STANDARD
END:VTIMEZONE
BEGIN:VTIMEZONE
TZID:UTC
BEGIN:STANDARD
TZOFFSETFROM:+0000
TZOFFSETTO:+0000
TZNAME:UTC
DTSTART:20220101T000000
END:STANDARD
END:VTIMEZONE
BEGIN:VEVENT
DTSTART;TZID=Asia/Dubai:20230720T100000
DTEND;TZID=Asia/Dubai:20230720T120000
DTSTAMP:20260423T083429
CREATED:20230720T133832Z
LAST-MODIFIED:20230720T142822Z
UID:10000568-1689847200-1689854400@uspatriottitle.com
SUMMARY:JOIN US FOR AN ONLINE EDUCATIONAL EVENT!
DESCRIPTION:Financial abuse for elders is a growing problem and real estate professionals need to be aware of how it may impact a real estate transaction. \nThis 2-hour Continuing Education (CE) course reviews why it is increasing\, the type of abuse \, how it can be detected\, and also addresses potential responsibilities of real estate professional. Authority and capacity issues in real estate transaction are also discussed and must be carefully considered to prevent\, detect and respond to financial abuse of elders. \n  \nThis event is in-person only at our Mandarin location. \n  \nhttps://register.gotowebinar.com/register/1062896121830979929
URL:https://uspatriottitle.com/event/join-us-for-an-online-educational-event/
LOCATION:US Patriot Title Mandarin\, 2950 Halcyon Lane\, Suite 703\, Jacksonville\, FL\, 32223\, United States
ATTACH;FMTTYPE=image/jpeg:https://uspatriottitle.com/wp-content/uploads/2023/07/7.20.23-US-Patriot-Title-Financial-Abuse-of-Elders-scaled.jpg
END:VEVENT
BEGIN:VEVENT
DTSTART;TZID=UTC:20230719T100000
DTEND;TZID=UTC:20230719T110000
DTSTAMP:20260423T083429
CREATED:20230714T204915Z
LAST-MODIFIED:20230714T220625Z
UID:10000565-1689760800-1689764400@uspatriottitle.com
SUMMARY:Win More Listings 101
DESCRIPTION:Want to grow your real estate business? We’ll walk you through exactly how to do that by leveraging the free tools available to you through US Patriot Title. We’ll provide snacks and drinks. Come join us\, meet our attorney on\, and win more listings! \n  \nThis event is in-person only at our Mandarin location. \n 
URL:https://uspatriottitle.com/event/win-more-listings-101-2/
LOCATION:US Patriot Title Mandarin\, 2950 Halcyon Lane\, Suite 703\, Jacksonville\, FL\, 32223\, United States
ATTACH;FMTTYPE=image/png:https://uspatriottitle.com/wp-content/uploads/2023/06/Win-more-listings-101.png
END:VEVENT
BEGIN:VEVENT
DTSTART;TZID=UTC:20230712T100000
DTEND;TZID=UTC:20230712T110000
DTSTAMP:20260423T083429
CREATED:20230626T144909Z
LAST-MODIFIED:20230709T210748Z
UID:10000560-1689156000-1689159600@uspatriottitle.com
SUMMARY:Win More Listings 101
DESCRIPTION:Want to grow your real estate business? We’ll walk you through exactly how to do that by leveraging the free tools available to you through US Patriot Title. We’ll provide snacks and drinks. Come join us\, meet our attorney on\, and win more listings! \n  \nThis event is in-person only at our Mandarin location. \n 
URL:https://uspatriottitle.com/event/win-more-listings-101/
LOCATION:US Patriot Title Mandarin\, 2950 Halcyon Lane\, Suite 703\, Jacksonville\, FL\, 32223\, United States
ATTACH;FMTTYPE=image/png:https://uspatriottitle.com/wp-content/uploads/2023/06/Win-more-listings-101.png
END:VEVENT
BEGIN:VEVENT
DTSTART;TZID=UTC:20230621T100000
DTEND;TZID=UTC:20230621T110000
DTSTAMP:20260423T083429
CREATED:20230619T192756Z
LAST-MODIFIED:20230619T192756Z
UID:10000558-1687341600-1687345200@uspatriottitle.com
SUMMARY:Get The Most From Your Title Company
DESCRIPTION:You may think you know what title companies can do for you\, but that’s all about to change. \nWhile we can’t speak for every title company\, we can walk you through the ways you can leverage the team at US Patriot Title to help you win more listings\, serve your customers better\, and profit more just by reaching out to us. You don’t even have to close with us to benefit from our services. \nThis event is at our Mandarin office – in-person only. \nSign up below to reserve your spot. We’ll provide light snacks and drinks. We only have room for six people\, so don’t delay!
URL:https://uspatriottitle.com/event/get-the-most-from-your-title-company/
LOCATION:US Patriot Title Mandarin\, 2950 Halcyon Lane\, Suite 703\, Jacksonville\, FL\, 32223\, United States
ATTACH;FMTTYPE=image/png:https://uspatriottitle.com/wp-content/uploads/2023/06/How-to-get-the-most-from-your-title-company-1.png
END:VEVENT
BEGIN:VEVENT
DTSTART;TZID=UTC:20230614T100000
DTEND;TZID=UTC:20230614T110000
DTSTAMP:20260423T083429
CREATED:20230529T115454Z
LAST-MODIFIED:20230612T180735Z
UID:10000555-1686736800-1686740400@uspatriottitle.com
SUMMARY:Closing Checklist A to Z with Erin Sullivan
DESCRIPTION:  \nWhat makes a closing go from good to great? The details! \nCome join Erin Sullivan\, head attorney at US Patriot Title in Mandarin\, as she unveils exactly what you need to cover in your transactions for buyers and sellers to ensure your customers have a seamless experience all the way to closing. Breakfast food and coffee will be provided. This is an in-person only workshop at the US Patriot Title Mandarin location. \nRegister now to save your spot. Snacks and drinks will be provided. Only six spots available!
URL:https://uspatriottitle.com/event/closing-checklist-a-to-z-with-erin-sullivan/
LOCATION:US Patriot Title Mandarin\, 2950 Halcyon Lane\, Suite 703\, Jacksonville\, FL\, 32223\, United States
ATTACH;FMTTYPE=image/png:https://uspatriottitle.com/wp-content/uploads/2023/05/Closing-Checklist.png
END:VEVENT
BEGIN:VEVENT
DTSTART;TZID=UTC:20230524T100000
DTEND;TZID=UTC:20230524T110000
DTSTAMP:20260423T083429
CREATED:20230521T190113Z
LAST-MODIFIED:20230521T190113Z
UID:10000553-1684922400-1684926000@uspatriottitle.com
SUMMARY:How to Read & Use Alta Statements & Closing Disclosures
DESCRIPTION:Join us every Wednesday for Chat with a Title Attorney. Get your contract\, title\, and closing questions answered. Plus\, learn something new as we dive into new topics each month. \nWe’ll provide free food and coffee! \nJoin us in person at our Mandarin location. Register below.
URL:https://uspatriottitle.com/event/how-to-read-use-alta-statements-closing-disclosures/
LOCATION:US Patriot Title Mandarin\, 2950 Halcyon Lane\, Suite 703\, Jacksonville\, FL\, 32223\, United States
ATTACH;FMTTYPE=image/png:https://uspatriottitle.com/wp-content/uploads/2023/03/Chat-with.png
END:VEVENT
BEGIN:VEVENT
DTSTART;TZID=UTC:20230517T100000
DTEND;TZID=UTC:20230517T110000
DTSTAMP:20260423T083429
CREATED:20230515T124016Z
LAST-MODIFIED:20230515T124701Z
UID:10000546-1684317600-1684321200@uspatriottitle.com
SUMMARY:How to Read & Use Alta Statements & Closing Disclosures
DESCRIPTION:Join us every Wednesday for Chat with a Title Attorney. Get your contract\, title\, and closing questions answered. Plus\, learn something new as we dive into new topics each month. \nWe’ll provide doughnuts and coffee! \nJoin us in person at our Mandarin location. Register below.
URL:https://uspatriottitle.com/event/how-to-read-use-alta-statements-closing-disclosures-3/
LOCATION:US Patriot Title Mandarin\, 2950 Halcyon Lane\, Suite 703\, Jacksonville\, FL\, 32223\, United States
ATTACH;FMTTYPE=image/png:https://uspatriottitle.com/wp-content/uploads/2023/03/Chat-with.png
END:VEVENT
BEGIN:VEVENT
DTSTART;TZID=UTC:20230511T100000
DTEND;TZID=UTC:20230511T113000
DTSTAMP:20260423T083429
CREATED:20230506T232736Z
LAST-MODIFIED:20230506T233103Z
UID:10000548-1683799200-1683804600@uspatriottitle.com
SUMMARY:Marketing & Mimosas
DESCRIPTION:Learn how to get the most out of your marketing efforts in this interactive workshop. \nPlus\, US Patriot Title will provide complimentary mimosas and doughnuts. \nThis event will be live and in-person only at US Patriot Title in Mandarin. \nReservations are required. RSVP using the form below.
URL:https://uspatriottitle.com/event/marketing-mimosas/
LOCATION:US Patriot Title Mandarin\, 2950 Halcyon Lane\, Suite 703\, Jacksonville\, FL\, 32223\, United States
ATTACH;FMTTYPE=image/png:https://uspatriottitle.com/wp-content/uploads/2023/05/Marketing-Mimosas-2.png
END:VEVENT
BEGIN:VEVENT
DTSTART;TZID=UTC:20230501T100000
DTEND;TZID=UTC:20230501T113000
DTSTAMP:20260423T083429
CREATED:20230427T185653Z
LAST-MODIFIED:20230427T185653Z
UID:10000279-1682935200-1682940600@uspatriottitle.com
SUMMARY:Marketing Masters with Ryan Winter
DESCRIPTION:Join us in person at our Mandarin location or online. \nIn this FREE workshop\, you’ll get access to in-depth guidance on how to profit more through your real estate business. \nIf you prefer to join online\, sign up for our FREE online community here to get access to the Zoom meeting. In the Agent Growth Network\, select the Free Plan (or paid if you would like to access the full network)\, navigate to Marketing Masters > Events and select the events for which you wish to RSVP.
URL:https://uspatriottitle.com/event/marketing-masters-with-ryan-winter-2-2/
LOCATION:US Patriot Title Mandarin\, 2950 Halcyon Lane\, Suite 703\, Jacksonville\, FL\, 32223\, United States
ATTACH;FMTTYPE=image/png:https://uspatriottitle.com/wp-content/uploads/2023/03/Monday.png
END:VEVENT
BEGIN:VEVENT
DTSTART;TZID=UTC:20230426T100000
DTEND;TZID=UTC:20230426T110000
DTSTAMP:20260423T083429
CREATED:20230329T200817Z
LAST-MODIFIED:20230421T151052Z
UID:10000018-1682503200-1682506800@uspatriottitle.com
SUMMARY:What's a clear title and how do you get one?
DESCRIPTION:Join us every Wednesday for Chat with a Title Attorney. Get your contract\, title\, and closing questions answered. Plus\, learn something new as we dive into new topics each month. \nJoin us in person at our Mandarin location or watch online by joining our FREE online community here. Create a free account\, navigate to Chat with a Title Attorney\, and RSVP for the Zoom classes you wish to attend (or simply join us in person).
URL:https://uspatriottitle.com/event/whats-a-clear-title-and-how-do-you-get-one/2023-04-26/
LOCATION:US Patriot Title Mandarin\, 2950 Halcyon Lane\, Suite 703\, Jacksonville\, FL\, 32223\, United States
ATTACH;FMTTYPE=image/png:https://uspatriottitle.com/wp-content/uploads/2023/03/Chat-with.png
END:VEVENT
BEGIN:VEVENT
DTSTART;TZID=UTC:20230419T100000
DTEND;TZID=UTC:20230419T110000
DTSTAMP:20260423T083429
CREATED:20230329T200817Z
LAST-MODIFIED:20230421T151052Z
UID:10000017-1681898400-1681902000@uspatriottitle.com
SUMMARY:What's a clear title and how do you get one?
DESCRIPTION:Join us every Wednesday for Chat with a Title Attorney. Get your contract\, title\, and closing questions answered. Plus\, learn something new as we dive into new topics each month. \nJoin us in person at our Mandarin location or watch online by joining our FREE online community here. Create a free account\, navigate to Chat with a Title Attorney\, and RSVP for the Zoom classes you wish to attend (or simply join us in person).
URL:https://uspatriottitle.com/event/whats-a-clear-title-and-how-do-you-get-one/2023-04-19/
LOCATION:US Patriot Title Mandarin\, 2950 Halcyon Lane\, Suite 703\, Jacksonville\, FL\, 32223\, United States
ATTACH;FMTTYPE=image/png:https://uspatriottitle.com/wp-content/uploads/2023/03/Chat-with.png
END:VEVENT
BEGIN:VEVENT
DTSTART;TZID=UTC:20230412T100000
DTEND;TZID=UTC:20230412T110000
DTSTAMP:20260423T083429
CREATED:20230329T200817Z
LAST-MODIFIED:20230421T151052Z
UID:10000016-1681293600-1681297200@uspatriottitle.com
SUMMARY:What's a clear title and how do you get one?
DESCRIPTION:Join us every Wednesday for Chat with a Title Attorney. Get your contract\, title\, and closing questions answered. Plus\, learn something new as we dive into new topics each month. \nJoin us in person at our Mandarin location or watch online by joining our FREE online community here. Create a free account\, navigate to Chat with a Title Attorney\, and RSVP for the Zoom classes you wish to attend (or simply join us in person).
URL:https://uspatriottitle.com/event/whats-a-clear-title-and-how-do-you-get-one/2023-04-12/
LOCATION:US Patriot Title Mandarin\, 2950 Halcyon Lane\, Suite 703\, Jacksonville\, FL\, 32223\, United States
ATTACH;FMTTYPE=image/png:https://uspatriottitle.com/wp-content/uploads/2023/03/Chat-with.png
END:VEVENT
BEGIN:VEVENT
DTSTART;TZID=UTC:20230405T100000
DTEND;TZID=UTC:20230405T110000
DTSTAMP:20260423T083429
CREATED:20230329T200817Z
LAST-MODIFIED:20230421T151052Z
UID:10000015-1680688800-1680692400@uspatriottitle.com
SUMMARY:What's a clear title and how do you get one?
DESCRIPTION:Join us every Wednesday for Chat with a Title Attorney. Get your contract\, title\, and closing questions answered. Plus\, learn something new as we dive into new topics each month. \nJoin us in person at our Mandarin location or watch online by joining our FREE online community here. Create a free account\, navigate to Chat with a Title Attorney\, and RSVP for the Zoom classes you wish to attend (or simply join us in person).
URL:https://uspatriottitle.com/event/whats-a-clear-title-and-how-do-you-get-one/2023-04-05/
LOCATION:US Patriot Title Mandarin\, 2950 Halcyon Lane\, Suite 703\, Jacksonville\, FL\, 32223\, United States
ATTACH;FMTTYPE=image/png:https://uspatriottitle.com/wp-content/uploads/2023/03/Chat-with.png
END:VEVENT
BEGIN:VEVENT
DTSTART;TZID=UTC:20230329T100000
DTEND;TZID=UTC:20230329T110000
DTSTAMP:20260423T083429
CREATED:20230323T181439Z
LAST-MODIFIED:20230323T182904Z
UID:10000013-1680084000-1680087600@uspatriottitle.com
SUMMARY:Common Contract Questions with Erin Sullivan
DESCRIPTION:  \n \nThis is a live\, in-person event hosted at US Patriot Title in Mandarin. \nThis is event is free\, but registration is required. Only 6 Spots Available. Register below. \nCome ask Erin Sullivan\, attorney at US Patriot Title\, how to navigate common contract issues on NEFAR and FARBAR contracts.
URL:https://uspatriottitle.com/event/common-contract-questions-with-erin-sullivan-3/
LOCATION:US Patriot Title Mandarin\, 2950 Halcyon Lane\, Suite 703\, Jacksonville\, FL\, 32223\, United States
ATTACH;FMTTYPE=image/png:https://uspatriottitle.com/wp-content/uploads/2023/03/Common-Contract-Questions-2.png
END:VEVENT
BEGIN:VEVENT
DTSTART;TZID=UTC:20230322T100000
DTEND;TZID=UTC:20230322T110000
DTSTAMP:20260423T083429
CREATED:20230316T184652Z
LAST-MODIFIED:20230316T184652Z
UID:10000012-1679479200-1679482800@uspatriottitle.com
SUMMARY:Common Contract Questions with Erin Sullivan
DESCRIPTION:  \n \nThis is a live\, in-person event hosted at US Patriot Title in Mandarin. \nThis is event is free\, but registration is required. Only 6 Spots Available. Register below. \nCome ask Erin Sullivan\, attorney at US Patriot Title\, how to navigate common contract issues on NEFAR and FARBAR contracts.
URL:https://uspatriottitle.com/event/common-contract-questions-march-22/
LOCATION:US Patriot Title Mandarin\, 2950 Halcyon Lane\, Suite 703\, Jacksonville\, FL\, 32223\, United States
ATTACH;FMTTYPE=image/png:https://uspatriottitle.com/wp-content/uploads/2023/03/Common-Contract-Questions-2.png
END:VEVENT
BEGIN:VEVENT
DTSTART;TZID=UTC:20230315T100000
DTEND;TZID=UTC:20230315T110000
DTSTAMP:20260423T083429
CREATED:20230309T210429Z
LAST-MODIFIED:20230309T210604Z
UID:10000010-1678874400-1678878000@uspatriottitle.com
SUMMARY:Common Contract Questions with Erin Sullivan
DESCRIPTION:  \n \nThis is a live\, in-person event hosted at US Patriot Title in Mandarin. \nThis is event is free\, but registration is required. Only 6 Spots Available. Register below. \nCome ask Erin Sullivan\, attorney at US Patriot Title\, how to navigate common contract issues on NEFAR and FARBAR contracts.
URL:https://uspatriottitle.com/event/common-contract-questions-with-erin-sullivan-2/
LOCATION:US Patriot Title Mandarin\, 2950 Halcyon Lane\, Suite 703\, Jacksonville\, FL\, 32223\, United States
ATTACH;FMTTYPE=image/png:https://uspatriottitle.com/wp-content/uploads/2023/03/Common-Contract-Questions-2.png
END:VEVENT
BEGIN:VEVENT
DTSTART;TZID=UTC:20230308T100000
DTEND;TZID=UTC:20230308T110000
DTSTAMP:20260423T083429
CREATED:20230228T154605Z
LAST-MODIFIED:20230301T011629Z
UID:10000008-1678269600-1678273200@uspatriottitle.com
SUMMARY:Common Contract Questions with Erin Sullivan
DESCRIPTION:This is a live\, in-person event hosted at US Patriot Title in Mandarin. \nThis is event is free\, but registration is required. Only 6 Spots Available. Register below. \nCome ask Erin Sullivan\, attorney at US Patriot Title\, how to navigate common contract issues on NEFAR and FARBAR contracts.
URL:https://uspatriottitle.com/event/common-contract-questions-with-erin-sullivan/
LOCATION:US Patriot Title Mandarin\, 2950 Halcyon Lane\, Suite 703\, Jacksonville\, FL\, 32223\, United States
ATTACH;FMTTYPE=image/png:https://uspatriottitle.com/wp-content/uploads/2023/02/Common-Contract-Questions.png
END:VEVENT
END:VCALENDAR